BEGIN:VCALENDAR
VERSION:2.0
PRODID:-//PureMedıkal - ECPv6.15.20//NONSGML v1.0//EN
CALSCALE:GREGORIAN
METHOD:PUBLISH
X-WR-CALNAME:PureMedıkal
X-ORIGINAL-URL:https://puremedikal.com
X-WR-CALDESC:Events for PureMedıkal
REFRESH-INTERVAL;VALUE=DURATION:PT1H
X-Robots-Tag:noindex
X-PUBLISHED-TTL:PT1H
BEGIN:VTIMEZONE
TZID:Europe/Moscow
BEGIN:STANDARD
TZOFFSETFROM:+0300
TZOFFSETTO:+0300
TZNAME:MSK
DTSTART:20220101T000000
END:STANDARD
END:VTIMEZONE
BEGIN:VTIMEZONE
TZID:UTC
BEGIN:STANDARD
TZOFFSETFROM:+0000
TZOFFSETTO:+0000
TZNAME:UTC
DTSTART:20170101T000000
END:STANDARD
END:VTIMEZONE
BEGIN:VEVENT
DTSTART;TZID=Europe/Moscow:20230721T123000
DTEND;TZID=Europe/Moscow:20230721T163000
DTSTAMP:20260421T142658
CREATED:20230713T174817Z
LAST-MODIFIED:20230713T175042Z
UID:10586-1689942600-1689957000@puremedikal.com
SUMMARY:Meet Your Surgeon
DESCRIPTION:Get ready for a one-of-a-kind networking event where you can connect with the top cosmetic surgeons in Turkey and learn more about the procedures you’re considering. This is an exclusive opportunity to mingle with esteemed doctors and walk away with a wealth of knowledge about cosmetic surgery.\nHere’s what you can expect: \n\nA fun-filled evening at our Chelsea Harbour office\, where you’ll have the chance to meet and chat with our expert surgeons.\nIn-depth discussions about the procedures you’re interested in\, including breast augmentations\, facelifts\, and more.\nA chance to show your images to a real expert and receive personalised advice on achieving your desired results.\nValuable insights and expertise from our professionals on a range of cosmetic surgery topics.\n\n*Please note that this is not a consultation\, but rather a meet-and-greet event for potential clients to connect with our surgeons. So don’t miss out on this unique opportunity to mingle with top-notch surgeons and learn more about the cosmetic procedures that interest you. \nPure Medikal is a medical concierge company that provides comprehensive information and advice about our partner surgeons. We offer a full range of services to support patients throughout their journey to Turkey for their chosen procedures. Our team acts as a liaison between patients and their chosen treatment providers\, ensuring exceptional care and expertise. \nRSVP today to secure your spot at this unforgettable event!
URL:https://puremedikal.com/event/meet-your-surgeon/
LOCATION:Harbour Avenue\, Harbour Avenue\, London\, SW10 0XD\, Birleşik Krallık
ATTACH;FMTTYPE=image/png:https://puremedikal.com/wp-content/uploads/2023/07/Screenshot_1.png
ORGANIZER;CN="Pure Medikal":MAILTO:info@puremedikla.com
END:VEVENT
BEGIN:VEVENT
DTSTART;VALUE=DATE:20200520
DTEND;VALUE=DATE:20200521
DTSTAMP:20260421T142658
CREATED:20160425T074320Z
LAST-MODIFIED:20170805T041437Z
UID:7534-1589932800-1590019199@puremedikal.com
SUMMARY:Kitten Adoption Day
DESCRIPTION:I’ve done everything the Bible says — even the stuff that contradicts the other stuff! Our differences are only skin deep\, but our sames go down to the bone. And now\, in the spirit of the season: start shopping. And for every dollar of Krusty merchandise you buy\, I will be nice to a sick kid. For legal purposes\, sick kids may include hookers with a cold. And here I am using my own lungs like a sucker. What good is money if it can’t inspire terror in your fellow man? Homer no function beer well without.
URL:https://puremedikal.com/event/kitten-adoption-day/
LOCATION:Winchester Mystery House\, 525 S Winchester Blvd\, San Jose\, CA\, 95128\, United States
CATEGORIES:Family Fun
ATTACH;FMTTYPE=image/jpeg:https://puremedikal.com/wp-content/uploads/2016/04/event-6.jpg
ORGANIZER;CN="Barney Stinson":MAILTO:barney@legendary.com
END:VEVENT
BEGIN:VEVENT
DTSTART;TZID=UTC:20200322T170000
DTEND;TZID=UTC:20200323T180000
DTSTAMP:20260421T142658
CREATED:20160425T074321Z
LAST-MODIFIED:20170805T041454Z
UID:7535-1584896400-1584986400@puremedikal.com
SUMMARY:Weekend Long Adventure
DESCRIPTION:Dear Mr. President\, There are too many states nowadays. Please\, eliminate three. P.S. I am not a crackpot. You don’t win friends with salad. I’m a Spalding Gray in a Rick Dees world. D’oh. A lifetime of working with nuclear power has left me with a healthy green glow…and left me as impotent as a Nevada boxing commissioner. No children have ever meddled with the Republican Party and lived to tell about it.
URL:https://puremedikal.com/event/weekend-long-adventure/
LOCATION:Cambridge University Library\, West Road\, Cambridge\, CB3 9DR\, United Kingdom
CATEGORIES:Family Fun
ATTACH;FMTTYPE=image/jpeg:https://puremedikal.com/wp-content/uploads/2016/04/event-8.jpg
ORGANIZER;CN="Sammy Sosa":MAILTO:baseball@hotmail.com
END:VEVENT
BEGIN:VEVENT
DTSTART;TZID=UTC:20190716T153000
DTEND;TZID=UTC:20190716T170000
DTSTAMP:20260421T142658
CREATED:20160425T074317Z
LAST-MODIFIED:20170805T041359Z
UID:7531-1563291000-1563296400@puremedikal.com
SUMMARY:Birthday Party
DESCRIPTION:Why do you think that she is a witch? He hasn’t got shit all over him. Well\, I didn’t vote for you. A newt? Look\, my liege! I don’t want to talk to you no more\, you empty-headed animal food trough water! I fart in your general direction! Your mother was a hamster and your father smelt of elderberries! Now leave before I am forced to taunt you a second time!
URL:https://puremedikal.com/event/birthday-party/
LOCATION:Krispy Kreme\, 6935 South Lindbergh\, St. Louis\, MO\, 63129\, United States
CATEGORIES:Party
ATTACH;FMTTYPE=image/jpeg:https://puremedikal.com/wp-content/uploads/2016/04/event-9.jpg
END:VEVENT
BEGIN:VEVENT
DTSTART;TZID=UTC:20190711T120000
DTEND;TZID=UTC:20190917T133000
DTSTAMP:20260421T142658
CREATED:20160425T074323Z
LAST-MODIFIED:20170805T041409Z
UID:7537-1562846400-1568727000@puremedikal.com
SUMMARY:Board Meeting
DESCRIPTION:I have traced the Rebel spies to her. Now she is my only link to finding their secret base. What?! I care. So\, what do you think of her\, Han? The Force is strong with this one. I have you now. But with the blast shield down\, I can’t even see! How am I supposed to fight? Red Five standing by.
URL:https://puremedikal.com/event/board-meeting/
LOCATION:Musee D’Orsay\, 1 Rue de la Légion d'Honneur\, Paris\, 75007\, France
CATEGORIES:Meeting
ATTACH;FMTTYPE=image/jpeg:https://puremedikal.com/wp-content/uploads/2016/04/event-1.jpg
END:VEVENT
BEGIN:VEVENT
DTSTART;TZID=UTC:20190707T133000
DTEND;TZID=UTC:20190707T153000
DTSTAMP:20260421T142658
CREATED:20160425T074322Z
LAST-MODIFIED:20170805T041421Z
UID:7536-1562506200-1562513400@puremedikal.com
SUMMARY:Cupcake Decorating
DESCRIPTION:Oh God\, my uncle. How am I ever gonna explain this? The plans you refer to will soon be back in our hands. I suggest you try it again\, Luke. This time\, let go your conscious self and act on instinct. I want to come with you to Alderaan. There’s nothing for me here now. I want to learn the ways of the Force and be a Jedi\, like my father before me. As you wish. I don’t know what you’re talking about. I am a member of the Imperial Senate on a diplomatic mission to Alderaan–
URL:https://puremedikal.com/event/cupcake-decorating/
LOCATION:The Corn Palace\, 601 N Main St\, Mitchell\, SD\, 57301\, United States
CATEGORIES:Family Fun
ATTACH;FMTTYPE=image/jpeg:https://puremedikal.com/wp-content/uploads/2016/04/event-7.jpg
ORGANIZER;CN="Sammy Sosa":MAILTO:baseball@hotmail.com
END:VEVENT
BEGIN:VEVENT
DTSTART;TZID=UTC:20180901T200000
DTEND;TZID=UTC:20180901T233000
DTSTAMP:20260421T142658
CREATED:20160425T074324Z
LAST-MODIFIED:20170805T041328Z
UID:7538-1535832000-1535844600@puremedikal.com
SUMMARY:Rock Concert
DESCRIPTION:Hey\, Luke! May the Force be with you. Look\, I ain’t in this for your revolution\, and I’m not in it for you\, Princess. I expect to be well paid. I’m in it for the money. Ye-ha! What good is a reward if you ain’t around to use it? Besides\, attacking that battle station ain’t my idea of courage. It’s more like…suicide. Hey\, Luke! May the Force be with you. But with the blast shield down\, I can’t even see! How am I supposed to fight?
URL:https://puremedikal.com/event/rock-concert/
LOCATION:Doug Fir Lounge\, 830 E. Burnside St.\, Portland\, OR\, 97214\, United States
CATEGORIES:Nightlife
ATTACH;FMTTYPE=image/jpeg:https://puremedikal.com/wp-content/uploads/2016/04/event-2.jpg
ORGANIZER;CN="Elvis Presley":MAILTO:rocknroll@hotmail.com
END:VEVENT
BEGIN:VEVENT
DTSTART;TZID=UTC:20180814T100000
DTEND;TZID=UTC:20180814T200000
DTSTAMP:20260421T142658
CREATED:20160425T074319Z
LAST-MODIFIED:20170805T041339Z
UID:7533-1534240800-1534276800@puremedikal.com
SUMMARY:Movie Marathon
DESCRIPTION:What’s the point of going out? We’re just going to wind up back here anyway. I’m going to the back seat of my car\, with the woman I love\, and I won’t be back for ten minutes! And now\, in the spirit of the season: start shopping. And for every dollar of Krusty merchandise you buy\, I will be nice to a sick kid. For legal purposes\, sick kids may include hookers with a cold. The Internet King? I wonder if he could provide faster nudity… Yes! I am a citizen! Now which way to the welfare office? I’m kidding\, I’m kidding. I work\, I work.
URL:https://puremedikal.com/event/movie-marathon/
LOCATION:Winchester Mystery House\, 525 S Winchester Blvd\, San Jose\, CA\, 95128\, United States
CATEGORIES:Family Fun
ATTACH;FMTTYPE=image/jpeg:https://puremedikal.com/wp-content/uploads/2016/04/event-3.jpg
END:VEVENT
BEGIN:VEVENT
DTSTART;TZID=UTC:20180802T200000
DTEND;TZID=UTC:20180803T010000
DTSTAMP:20260421T142658
CREATED:20160425T074325Z
LAST-MODIFIED:20170805T041349Z
UID:7539-1533240000-1533258000@puremedikal.com
SUMMARY:Late Night Party
DESCRIPTION:Well\, I got better. Ah\, now we see the violence inherent in the system! The swallow may fly south with the sun\, and the house martin or the plover may seek warmer climes in winter\, yet these are not strangers to our land. It’s only a model. It’s only a model.
URL:https://puremedikal.com/event/late-night-party/
LOCATION:Party Haus\, 330 S Broadway Unit 602\, Los Angelos\, CA\, 90013\, united States
CATEGORIES:Nightlife,Party
ATTACH;FMTTYPE=image/jpeg:https://puremedikal.com/wp-content/uploads/2016/04/event-4.jpg
ORGANIZER;CN="Famous Amos":MAILTO:cookies@aol.com
END:VEVENT
BEGIN:VEVENT
DTSTART;TZID=UTC:20180413T180000
DTEND;TZID=UTC:20180416T203000
DTSTAMP:20260421T142658
CREATED:20160425T074318Z
LAST-MODIFIED:20170805T041301Z
UID:7532-1523642400-1523910600@puremedikal.com
SUMMARY:Dinner Party
DESCRIPTION:Look\, my liege! Shut up! Will you shut up?! What a strange person. But you are dressed as one… You don’t frighten us\, English pig-dogs! Go and boil your bottoms\, sons of a silly person! I blow my nose at you\, so-called Ah-thoor Keeng\, you and all your silly English K-n-n-n-n-n-n-n-niggits! The Lady of the Lake\, her arm clad in the purest shimmering samite\, held aloft Excalibur from the bosom of the water\, signifying by divine providence that I\, Arthur\, was to carry Excalibur. That is why I am your king.
URL:https://puremedikal.com/event/dinner-party/
LOCATION:The Corn Palace\, 601 N Main St\, Mitchell\, SD\, 57301\, United States
CATEGORIES:Party
ATTACH;FMTTYPE=image/jpeg:https://puremedikal.com/wp-content/uploads/2016/04/event-10.jpg
ORGANIZER;CN="Mr. Ed":MAILTO:neigh@gmail.com
END:VEVENT
BEGIN:VEVENT
DTSTART;TZID=UTC:20180410T080000
DTEND;TZID=UTC:20180617T175900
DTSTAMP:20260421T142658
CREATED:20160425T074327Z
LAST-MODIFIED:20170805T041313Z
UID:7540-1523347200-1529258340@puremedikal.com
SUMMARY:Farmer’s Market
DESCRIPTION:Who’s that then? Shh! Knights\, I bid you welcome to your new home. Let us ride to Camelot! Ah\, now we see the violence inherent in the system! The Lady of the Lake\, her arm clad in the purest shimmering samite\, held aloft Excalibur from the bosom of the water\, signifying by divine providence that I\, Arthur\, was to carry Excalibur. That is why I am your king. Camelot!
URL:https://puremedikal.com/event/farmers-market/
LOCATION:Bamboo Fresh\, 655 Front St. #108\, Lahaina\, HI\, 96761\, United States
CATEGORIES:Family Fun
ATTACH;FMTTYPE=image/jpeg:https://puremedikal.com/wp-content/uploads/2016/04/event-5.jpg
END:VEVENT
END:VCALENDAR